BEGIN:VCALENDAR
VERSION:2.0
PRODID:-//wp-events-plugin.com//7.2.3.1//EN
TZID:America/New_York
X-WR-TIMEZONE:America/New_York
BEGIN:VEVENT
UID:5259@jewishcongregationofvenice.org
DTSTART;TZID=America/New_York:20250828T160000
DTEND;TZID=America/New_York:20250828T170000
DTSTAMP:20250902T233204Z
URL:https://jewishcongregationofvenice.org/events/torah-class-with-rabbi-j
 ennifer-2024-07-04-2024-10-03-2024-10-10-2024-10-17-2024-10-24-2024-10-31-
 2024-11-28-2025-07-03-2025-07-10-2025-07-17-2025-07-24-2025-07-31-2025-08-
 07-2025-08-14-21-2025-08-28/
SUMMARY:Torah Study with Rabbi Jennifer
DESCRIPTION:Click More Info for the Zoom link to the class.
CATEGORIES:Classes and Learning
END:VEVENT
BEGIN:VTIMEZONE
TZID:America/New_York
X-LIC-LOCATION:America/New_York
BEGIN:DAYLIGHT
DTSTART:20250309T030000
TZOFFSETFROM:-0500
TZOFFSETTO:-0400
TZNAME:EDT
END:DAYLIGHT
END:VTIMEZONE
END:VCALENDAR