BEGIN:VCALENDAR
VERSION:2.0
PRODID:-//wp-events-plugin.com//7.2.3.1//EN
TZID:America/New_York
X-WR-TIMEZONE:America/New_York
BEGIN:VEVENT
UID:3744@jewishcongregationofvenice.org
DTSTART;TZID=America/New_York:20240509T160000
DTEND;TZID=America/New_York:20240509T170000
DTSTAMP:20250902T233204Z
URL:https://jewishcongregationofvenice.org/events/torah-class-with-rabbi-j
 ennifer-2024-05-09/
SUMMARY:Torah Study with Rabbi Jennifer
DESCRIPTION:Click More Info for the Zoom link to the class.
CATEGORIES:Classes and Learning
END:VEVENT
BEGIN:VTIMEZONE
TZID:America/New_York
X-LIC-LOCATION:America/New_York
BEGIN:DAYLIGHT
DTSTART:20240310T030000
TZOFFSETFROM:-0500
TZOFFSETTO:-0400
TZNAME:EDT
END:DAYLIGHT
END:VTIMEZONE
END:VCALENDAR