BEGIN:VCALENDAR
VERSION:2.0
PRODID:-//wp-events-plugin.com//7.2.3.1//EN
TZID:America/New_York
X-WR-TIMEZONE:America/New_York
BEGIN:VEVENT
UID:4870@jewishcongregationofvenice.org
DTSTART;TZID=America/New_York:20260316T100000
DTEND;TZID=America/New_York:20260316T120000
DTSTAMP:20250427T152244Z
URL:https://jewishcongregationofvenice.org/events/tai-chi-class-2-2026-03-
 16/
SUMMARY:Tai Chi Class
DESCRIPTION:
CATEGORIES:Classes and Learning
END:VEVENT
BEGIN:VTIMEZONE
TZID:America/New_York
X-LIC-LOCATION:America/New_York
BEGIN:DAYLIGHT
DTSTART:20260308T030000
TZOFFSETFROM:-0500
TZOFFSETTO:-0400
TZNAME:EDT
END:DAYLIGHT
END:VTIMEZONE
END:VCALENDAR