BEGIN:VCALENDAR
VERSION:2.0
PRODID:-//wp-events-plugin.com//7.2.3.1//EN
TZID:America/New_York
X-WR-TIMEZONE:America/New_York
BEGIN:VEVENT
UID:4858@jewishcongregationofvenice.org
DTSTART;TZID=America/New_York:20260202T100000
DTEND;TZID=America/New_York:20260202T120000
DTSTAMP:20250427T152244Z
URL:https://jewishcongregationofvenice.org/events/tai-chi-class-2-2026-02-
 02/
SUMMARY:Tai Chi Class
DESCRIPTION:
CATEGORIES:Classes and Learning
END:VEVENT
BEGIN:VTIMEZONE
TZID:America/New_York
X-LIC-LOCATION:America/New_York
BEGIN:STANDARD
DTSTART:20251102T010000
TZOFFSETFROM:-0400
TZOFFSETTO:-0500
TZNAME:EST
END:STANDARD
END:VTIMEZONE
END:VCALENDAR