BEGIN:VCALENDAR
VERSION:2.0
PRODID:-//wp-events-plugin.com//7.2.3.1//EN
TZID:America/New_York
X-WR-TIMEZONE:America/New_York
BEGIN:VEVENT
UID:4039@jewishcongregationofvenice.org
DTSTART;TZID=America/New_York:20241125T100000
DTEND;TZID=America/New_York:20241125T120000
DTSTAMP:20241001T140840Z
URL:https://jewishcongregationofvenice.org/events/strategic-planning-commi
 ttee-meeting-2024-11-25/
SUMMARY:Strategic Planning Committee Meeting
DESCRIPTION:
CATEGORIES:Meetings
LOCATION:Zoom Room (first room on right)\, 600 North Auburn Road\, Venice\,
  FL\, 34292\, United States
X-APPLE-STRUCTURED-LOCATION;VALUE=URI;X-ADDRESS=600 North Auburn Road\, Ven
 ice\, FL\, 34292\, United States;X-APPLE-RADIUS=100;X-TITLE=Zoom Room (fir
 st room on right):geo:0,0
END:VEVENT
BEGIN:VTIMEZONE
TZID:America/New_York
X-LIC-LOCATION:America/New_York
BEGIN:STANDARD
DTSTART:20241103T010000
TZOFFSETFROM:-0400
TZOFFSETTO:-0500
TZNAME:EST
END:STANDARD
END:VTIMEZONE
END:VCALENDAR