BEGIN:VCALENDAR
VERSION:2.0
PRODID:-//wp-events-plugin.com//7.2.3.1//EN
TZID:America/New_York
X-WR-TIMEZONE:America/New_York
BEGIN:VEVENT
UID:4782@jewishcongregationofvenice.org
DTSTART;TZID=America/New_York:20251204T103000
DTEND;TZID=America/New_York:20251204T120000
DTSTAMP:20251110T154707Z
URL:https://jewishcongregationofvenice.org/events/sisterhood-meeting-3-202
 5-12-04/
SUMMARY:Sisterhood and Adult Learning Joint Program: Baila Miller
DESCRIPTION:Click MORE INFO for RSVP information.
CATEGORIES:Joint Program,Sisterhood
LOCATION:Social Hall\, 600 North Auburn Road\, Venice\, Florida\, United St
 ates
X-APPLE-STRUCTURED-LOCATION;VALUE=URI;X-ADDRESS=600 North Auburn Road\, Ven
 ice\, Florida\, United States;X-APPLE-RADIUS=100;X-TITLE=Social Hall:geo:0
 ,0
END:VEVENT
BEGIN:VTIMEZONE
TZID:America/New_York
X-LIC-LOCATION:America/New_York
BEGIN:STANDARD
DTSTART:20251102T010000
TZOFFSETFROM:-0400
TZOFFSETTO:-0500
TZNAME:EST
END:STANDARD
END:VTIMEZONE
END:VCALENDAR