BEGIN:VCALENDAR
VERSION:2.0
PRODID:-//wp-events-plugin.com//7.2.3.1//EN
TZID:America/New_York
X-WR-TIMEZONE:America/New_York
BEGIN:VEVENT
UID:5593@jewishcongregationofvenice.org
DTSTART;TZID=America/New_York:20270305T193000
DTEND;TZID=America/New_York:20270305T210000
DTSTAMP:20260421T163458Z
URL:https://jewishcongregationofvenice.org/events/shabbat-services-5-2026-
 07-03-2026-07-10-2026-07-17-2026-07-24-2026-07-31-2026-08-07-2026-08-14-20
 26-08-21-2026-08-28-2026-09-04-2026-09-11-2026-09-18-2026-09-25-2026-10-02
 -2026-10-09-20-26-2027-03-05/
SUMMARY:Shabbat Services
DESCRIPTION:Click MORE INFO for Zoom information.
CATEGORIES:Worship
LOCATION:Sanctuary and Social Hall\, 600 North Auburn Road\, Venice\, FL\, 
 34292\, United States
X-APPLE-STRUCTURED-LOCATION;VALUE=URI;X-ADDRESS=600 North Auburn Road\, Ven
 ice\, FL\, 34292\, United States;X-APPLE-RADIUS=100;X-TITLE=Sanctuary and 
 Social Hall:geo:0,0
END:VEVENT
BEGIN:VTIMEZONE
TZID:America/New_York
X-LIC-LOCATION:America/New_York
BEGIN:STANDARD
DTSTART:20261101T010000
TZOFFSETFROM:-0400
TZOFFSETTO:-0500
TZNAME:EST
END:STANDARD
END:VTIMEZONE
END:VCALENDAR