BEGIN:VCALENDAR
VERSION:2.0
PRODID:-//wp-events-plugin.com//7.2.3.1//EN
TZID:America/New_York
X-WR-TIMEZONE:America/New_York
BEGIN:VEVENT
UID:4117@jewishcongregationofvenice.org
DTSTART;TZID=America/New_York:20250704T173000
DTEND;TZID=America/New_York:20250704T190000
DTSTAMP:20250524T135311Z
URL:https://jewishcongregationofvenice.org/events/shabbat-services-3-2025-
 07-04/
SUMMARY:Shabbat Services
DESCRIPTION:Join Zoom for Friday night services here:\n\nhttps://us02web.zo
 om.us/j/87803352821\n\nMeeting ID: 878 0335 2821\nPasscode: jcv
CATEGORIES:Worship
LOCATION:Sanctuary and Social Hall\, 600 North Auburn Road\, Venice\, FL\, 
 34292\, United States
X-APPLE-STRUCTURED-LOCATION;VALUE=URI;X-ADDRESS=600 North Auburn Road\, Ven
 ice\, FL\, 34292\, United States;X-APPLE-RADIUS=100;X-TITLE=Sanctuary and 
 Social Hall:geo:0,0
END:VEVENT
BEGIN:VTIMEZONE
TZID:America/New_York
X-LIC-LOCATION:America/New_York
BEGIN:DAYLIGHT
DTSTART:20250309T030000
TZOFFSETFROM:-0500
TZOFFSETTO:-0400
TZNAME:EDT
END:DAYLIGHT
END:VTIMEZONE
END:VCALENDAR