BEGIN:VCALENDAR
VERSION:2.0
PRODID:-//wp-events-plugin.com//7.2.3.1//EN
TZID:America/New_York
X-WR-TIMEZONE:America/New_York
BEGIN:VEVENT
UID:2107@jewishcongregationofvenice.org
DTSTART;TZID=America/New_York:20230224T193000
DTEND;TZID=America/New_York:20230224T210000
DTSTAMP:20240616T172620Z
URL:https://jewishcongregationofvenice.org/events/shabbat-service-2023-02-
 24/
SUMMARY:Shabbat Services
DESCRIPTION:Click More Info for a link to the service.
CATEGORIES:Worship
LOCATION:Sanctuary and Social Hall\, 600 North Auburn Road\, Venice\, FL\, 
 34292\, United States
X-APPLE-STRUCTURED-LOCATION;VALUE=URI;X-ADDRESS=600 North Auburn Road\, Ven
 ice\, FL\, 34292\, United States;X-APPLE-RADIUS=100;X-TITLE=Sanctuary and 
 Social Hall:geo:0,0
END:VEVENT
BEGIN:VTIMEZONE
TZID:America/New_York
X-LIC-LOCATION:America/New_York
BEGIN:STANDARD
DTSTART:20221106T010000
TZOFFSETFROM:-0400
TZOFFSETTO:-0500
TZNAME:EST
END:STANDARD
END:VTIMEZONE
END:VCALENDAR