BEGIN:VCALENDAR
VERSION:2.0
PRODID:-//wp-events-plugin.com//7.2.3.1//EN
TZID:America/New_York
X-WR-TIMEZONE:America/New_York
BEGIN:VEVENT
UID:4403@jewishcongregationofvenice.org
DTSTART;TZID=America/New_York:20241204T093000
DTEND;TZID=America/New_York:20241204T113000
DTSTAMP:20260105T223153Z
URL:https://jewishcongregationofvenice.org/events/ritual-committee-meeting
 -2024-12-04/
SUMMARY:Ritual Committee Meeting
DESCRIPTION:Click MORE INFO for Zoom link
CATEGORIES:Meetings
END:VEVENT
BEGIN:VTIMEZONE
TZID:America/New_York
X-LIC-LOCATION:America/New_York
BEGIN:STANDARD
DTSTART:20241103T010000
TZOFFSETFROM:-0400
TZOFFSETTO:-0500
TZNAME:EST
END:STANDARD
END:VTIMEZONE
END:VCALENDAR