BEGIN:VCALENDAR
VERSION:2.0
PRODID:-//wp-events-plugin.com//7.2.3.1//EN
TZID:America/New_York
X-WR-TIMEZONE:America/New_York
BEGIN:VEVENT
UID:5501@jewishcongregationofvenice.org
DTSTART;TZID=America/New_York;VALUE=DATE:20260317
DTEND;TZID=America/New_York;VALUE=DATE:20260320
DTSTAMP:20260315T144548Z
URL:https://jewishcongregationofvenice.org/events/rabbi-marci-out-of-offic
 e-2/
SUMMARY:Rabbi Marci Out of Office
DESCRIPTION:
CATEGORIES:Out of Office
END:VEVENT
BEGIN:VTIMEZONE
TZID:America/New_York
X-LIC-LOCATION:America/New_York
BEGIN:DAYLIGHT
DTSTART:20260308T030000
TZOFFSETFROM:-0500
TZOFFSETTO:-0400
TZNAME:EDT
END:DAYLIGHT
END:VTIMEZONE
END:VCALENDAR