BEGIN:VCALENDAR
VERSION:2.0
PRODID:-//wp-events-plugin.com//7.2.3.1//EN
TZID:America/New_York
X-WR-TIMEZONE:America/New_York
BEGIN:VEVENT
UID:5486@jewishcongregationofvenice.org
DTSTART;TZID=America/New_York:20260326T110000
DTEND;TZID=America/New_York:20260326T130000
DTSTAMP:20260318T165011Z
URL:https://jewishcongregationofvenice.org/events/memorial-service-for-mar
 ilyn-and-harold-schwartz/
SUMMARY:Memorial Service for Marilyn and Harold Schwartz
DESCRIPTION:The Service will be held at the Sarasota National Cemetery\, fo
 llowed by a condolence meal at the JCV.\nPleases RSVP to Ruth Bauers at 94
 1-716-4172 by March 23\, if you are coming to the condolence meal.
CATEGORIES:Lifecycle
LOCATION:Sarasota National Cemetery\, 9810 SR-72\, Sarasota\, FL\, 34241\, 
 United States
X-APPLE-STRUCTURED-LOCATION;VALUE=URI;X-ADDRESS=9810 SR-72\, Sarasota\, FL\
 , 34241\, United States;X-APPLE-RADIUS=100;X-TITLE=Sarasota National Cemet
 ery:geo:0,0
END:VEVENT
BEGIN:VTIMEZONE
TZID:America/New_York
X-LIC-LOCATION:America/New_York
BEGIN:DAYLIGHT
DTSTART:20260308T030000
TZOFFSETFROM:-0500
TZOFFSETTO:-0400
TZNAME:EDT
END:DAYLIGHT
END:VTIMEZONE
END:VCALENDAR