BEGIN:VCALENDAR
VERSION:2.0
PRODID:-//wp-events-plugin.com//7.2.3.1//EN
TZID:America/New_York
X-WR-TIMEZONE:America/New_York
BEGIN:VEVENT
UID:5436@jewishcongregationofvenice.org
DTSTART;TZID=America/New_York:20260311T123000
DTEND;TZID=America/New_York:20260311T150000
DTSTAMP:20260217T175438Z
URL:https://jewishcongregationofvenice.org/events/jewelry-sweep-earrings-w
 ith-sisterhood/
SUMMARY:Jewelry Sweep Earrings with Sisterhood
DESCRIPTION:Click MORE INFO for RSVP information.
CATEGORIES:Sisterhood
LOCATION:Zoom Room (first room on right)\, 600 North Auburn Road\, Venice\,
  FL\, 34292\, United States
X-APPLE-STRUCTURED-LOCATION;VALUE=URI;X-ADDRESS=600 North Auburn Road\, Ven
 ice\, FL\, 34292\, United States;X-APPLE-RADIUS=100;X-TITLE=Zoom Room (fir
 st room on right):geo:0,0
END:VEVENT
BEGIN:VTIMEZONE
TZID:America/New_York
X-LIC-LOCATION:America/New_York
BEGIN:DAYLIGHT
DTSTART:20260308T030000
TZOFFSETFROM:-0500
TZOFFSETTO:-0400
TZNAME:EDT
END:DAYLIGHT
END:VTIMEZONE
END:VCALENDAR