BEGIN:VCALENDAR
VERSION:2.0
PRODID:-//wp-events-plugin.com//7.2.3.1//EN
TZID:America/New_York
X-WR-TIMEZONE:America/New_York
BEGIN:VEVENT
UID:4344@jewishcongregationofvenice.org
DTSTART;TZID=America/New_York:20250422T113000
DTEND;TZID=America/New_York:20250422T123000
DTSTAMP:20260218T154443Z
URL:https://jewishcongregationofvenice.org/events/hebrew-reading-and-study
 -with-rabbi-marci-2025-04-22/
SUMMARY:Hebrew Reading and Study with Rabbi Marci
DESCRIPTION:Click MORE INFO for information about this series of classes.
CATEGORIES:Classes and Learning
LOCATION:Library\, 600 North Auburn Road\, Venice\, FL\, 34292\, United Sta
 tes
X-APPLE-STRUCTURED-LOCATION;VALUE=URI;X-ADDRESS=600 North Auburn Road\, Ven
 ice\, FL\, 34292\, United States;X-APPLE-RADIUS=100;X-TITLE=Library:geo:0,
 0
END:VEVENT
BEGIN:VTIMEZONE
TZID:America/New_York
X-LIC-LOCATION:America/New_York
BEGIN:DAYLIGHT
DTSTART:20250309T030000
TZOFFSETFROM:-0500
TZOFFSETTO:-0400
TZNAME:EDT
END:DAYLIGHT
END:VTIMEZONE
END:VCALENDAR