BEGIN:VCALENDAR
VERSION:2.0
PRODID:-//wp-events-plugin.com//7.2.3.1//EN
TZID:America/New_York
X-WR-TIMEZONE:America/New_York
BEGIN:VEVENT
UID:5498@jewishcongregationofvenice.org
DTSTART;TZID=America/New_York:20260305T100000
DTEND;TZID=America/New_York:20260305T110000
DTSTAMP:20260224T223830Z
URL:https://jewishcongregationofvenice.org/events/food-festival-committee-
 meeting-6/
SUMMARY:Food Festival Committee Meeting
DESCRIPTION:
CATEGORIES:Food Festival
LOCATION:Zoom Room (first room on right)\, 600 North Auburn Road\, Venice\,
  FL\, 34292\, United States
X-APPLE-STRUCTURED-LOCATION;VALUE=URI;X-ADDRESS=600 North Auburn Road\, Ven
 ice\, FL\, 34292\, United States;X-APPLE-RADIUS=100;X-TITLE=Zoom Room (fir
 st room on right):geo:0,0
END:VEVENT
BEGIN:VTIMEZONE
TZID:America/New_York
X-LIC-LOCATION:America/New_York
BEGIN:STANDARD
DTSTART:20251102T010000
TZOFFSETFROM:-0400
TZOFFSETTO:-0500
TZNAME:EST
END:STANDARD
END:VTIMEZONE
END:VCALENDAR