BEGIN:VCALENDAR
VERSION:2.0
PRODID:-//wp-events-plugin.com//7.2.3.1//EN
TZID:America/New_York
X-WR-TIMEZONE:America/New_York
BEGIN:VEVENT
UID:4706@jewishcongregationofvenice.org
DTSTART;TZID=America/New_York:20250108T100000
DTEND;TZID=America/New_York:20250108T120000
DTSTAMP:20250418T160808Z
URL:https://jewishcongregationofvenice.org/events/board-meeting-2025-01-08
 /
SUMMARY:Board Meeting
DESCRIPTION:
CATEGORIES:Meetings
LOCATION:Small Classroom\, JCV\, Venice\, United States
X-APPLE-STRUCTURED-LOCATION;VALUE=URI;X-ADDRESS=JCV\, Venice\, United State
 s;X-APPLE-RADIUS=100;X-TITLE=Small Classroom:geo:0,0
END:VEVENT
BEGIN:VTIMEZONE
TZID:America/New_York
X-LIC-LOCATION:America/New_York
BEGIN:STANDARD
DTSTART:20241103T010000
TZOFFSETFROM:-0400
TZOFFSETTO:-0500
TZNAME:EST
END:STANDARD
END:VTIMEZONE
END:VCALENDAR