BEGIN:VCALENDAR
VERSION:2.0
PRODID:-//wp-events-plugin.com//7.2.3.1//EN
TZID:America/New_York
X-WR-TIMEZONE:America/New_York
BEGIN:VEVENT
UID:3989@jewishcongregationofvenice.org
DTSTART;TZID=America/New_York:20250108T133000
DTEND;TZID=America/New_York:20250108T150000
DTSTAMP:20241224T155008Z
URL:https://jewishcongregationofvenice.org/events/adult-learning-liz-cours
 en-speaking-on-the-rosenwald-schools-in-florida/
SUMMARY:Adult Learning: The Rosenwald Schools of Florida
DESCRIPTION:Click MORE INFO for RSVP information.
CATEGORIES:Classes and Learning
LOCATION:Social Hall\, 600 North Auburn Road\, Venice\, Florida\, United St
 ates
X-APPLE-STRUCTURED-LOCATION;VALUE=URI;X-ADDRESS=600 North Auburn Road\, Ven
 ice\, Florida\, United States;X-APPLE-RADIUS=100;X-TITLE=Social Hall:geo:0
 ,0
END:VEVENT
BEGIN:VTIMEZONE
TZID:America/New_York
X-LIC-LOCATION:America/New_York
BEGIN:STANDARD
DTSTART:20241103T010000
TZOFFSETFROM:-0400
TZOFFSETTO:-0500
TZNAME:EST
END:STANDARD
END:VTIMEZONE
END:VCALENDAR