BEGIN:VCALENDAR
VERSION:2.0
PRODID:-//wp-events-plugin.com//7.2.3.1//EN
TZID:America/New_York
X-WR-TIMEZONE:America/New_York
BEGIN:VEVENT
UID:5497@jewishcongregationofvenice.org
DTSTART;TZID=America/New_York:20260324T100000
DTEND;TZID=America/New_York:20260324T110000
DTSTAMP:20260318T144954Z
URL:https://jewishcongregationofvenice.org/events/adult-learning-discussio
 n-with-rabbi-meir-azari/
SUMMARY:ZOOM Adult Learning: Discussion with Rabbi Meir Azari
DESCRIPTION:Because of travel restrictions from Israel\, this discussion wi
 ll now be on Zoom. Click MORE INFO for Zoom Link. 
CATEGORIES:Classes and Learning
END:VEVENT
BEGIN:VTIMEZONE
TZID:America/New_York
X-LIC-LOCATION:America/New_York
BEGIN:DAYLIGHT
DTSTART:20260308T030000
TZOFFSETFROM:-0500
TZOFFSETTO:-0400
TZNAME:EDT
END:DAYLIGHT
END:VTIMEZONE
END:VCALENDAR